BEGIN:VCALENDAR
VERSION:2.0
PRODID:-//wp-events-plugin.com//7.2.3.1//EN
TZID:America/Denver
X-WR-TIMEZONE:America/Denver
BEGIN:VEVENT
UID:1582@nfrmpo.org
DTSTART:20230604T090000Z
DTEND:20230604T130000Z
DTSTAMP:20230504T145820Z
URL:https://nfrmpo.org/calendar/bike-zone-at-the-loveland-farmers-market/
SUMMARY:Bike Zone at the Loveland Farmer's Market
DESCRIPTION:
CATEGORIES:Shift Your Ride
LOCATION:Old Fairgrounds Park\, 700 S. Railroad Ave\, Loveland\, CO\, Unite
 d States
GEO:40.388352;-105.079077
X-APPLE-STRUCTURED-LOCATION;VALUE=URI;X-ADDRESS=700 S. Railroad Ave\, Lovel
 and\, CO\, United States;X-APPLE-RADIUS=100;X-TITLE=Old Fairgrounds Park:g
 eo:40.388352,-105.079077
END:VEVENT
END:VCALENDAR