BEGIN:VCALENDAR
VERSION:2.0
PRODID:-//wp-events-plugin.com//7.2.3.1//EN
TZID:America/Denver
X-WR-TIMEZONE:America/Denver
BEGIN:VEVENT
UID:1581@nfrmpo.org
DTSTART:20230603T080000Z
DTEND:20230603T120000Z
DTSTAMP:20230504T145707Z
URL:https://nfrmpo.org/calendar/bike-zone-at-the-loveland-national-trails-
 day-celebration/
SUMMARY:Bike Zone at the Loveland National Trails Day Celebration
DESCRIPTION:
CATEGORIES:Shift Your Ride
LOCATION:Loveland Centennial Park\, 977 W 1st St\, Loveland\, CO\, 80537\, 
 United States
GEO:40.393857;-105.093076
X-APPLE-STRUCTURED-LOCATION;VALUE=URI;X-ADDRESS=977 W 1st St\, Loveland\, C
 O\, 80537\, United States;X-APPLE-RADIUS=100;X-TITLE=Loveland Centennial P
 ark:geo:40.393857,-105.093076
END:VEVENT
END:VCALENDAR