BEGIN:VCALENDAR
VERSION:2.0
PRODID:-//wp-events-plugin.com//7.2.3.1//EN
TZID:America/Denver
X-WR-TIMEZONE:America/Denver
BEGIN:VEVENT
UID:147@nfrmpo.org
DTSTART:20161018T140000Z
DTEND:20161018T153000Z
DTSTAMP:20161015T005504Z
URL:https://nfrmpo.org/calendar/council-agenda-review-2016-10/
SUMMARY:Council Agenda Review
DESCRIPTION:
CATEGORIES:Agenda Review
LOCATION:Stuft a burger bar - Windsor\, 1294 Main Street\, Windsor\, Colora
 do\, 80550\, United States
GEO:40.4799515;-104.92142089999999
X-APPLE-STRUCTURED-LOCATION;VALUE=URI;X-ADDRESS=1294 Main Street\, Windsor\
 , Colorado\, 80550\, United States;X-APPLE-RADIUS=100;X-TITLE=Stuft a burg
 er bar - Windsor:geo:40.4799515,-104.92142089999999
END:VEVENT
END:VCALENDAR