BEGIN:VCALENDAR
VERSION:2.0
PRODID:-//wp-events-plugin.com//7.2.3.1//EN
TZID:America/Denver
X-WR-TIMEZONE:America/Denver
BEGIN:VEVENT
UID:1736@nfrmpo.org
DTSTART;TZID=America/Denver:20251204T180000
DTEND;TZID=America/Denver:20251204T200000
DTSTAMP:20251202T165711Z
URL:https://nfrmpo.org/calendar/december-2025-planning-council-meeting/
SUMMARY:December 2025 Planning Council Meeting
DESCRIPTION:Council meeting packets are generally posted 10 business days p
 rior to Council meetings. Meeting minutes are posted after approval at the
  subsequent Council meeting. View\nmeeting materials.\n\nJoin the meeting:
  https://meet.goto.com/NFRMPO/2025nfrcouncil \n\nAccess Code: 187-535-685\
 nCall in: +1 (872) 240-3212\n\nMeeting Materials – NFRMPO
CATEGORIES:Planning Council
LOCATION:Timnath Police Station\, 5601 E Harmony Road\, Timnath\, CO\, 8054
 7\, United States
GEO:40.522271;-104.974988
X-APPLE-STRUCTURED-LOCATION;VALUE=URI;X-ADDRESS=5601 E Harmony Road\, Timna
 th\, CO\, 80547\, United States;X-APPLE-RADIUS=100;X-TITLE=Timnath Police 
 Station:geo:40.522271,-104.974988
END:VEVENT
BEGIN:VTIMEZONE
TZID:America/Denver
X-LIC-LOCATION:America/Denver
BEGIN:STANDARD
DTSTART:20251102T010000
TZOFFSETFROM:-0600
TZOFFSETTO:-0700
TZNAME:MST
END:STANDARD
END:VTIMEZONE
END:VCALENDAR