BEGIN:VCALENDAR
VERSION:2.0
PRODID:-//wp-events-plugin.com//7.2.3.1//EN
TZID:America/Denver
X-WR-TIMEZONE:America/Denver
BEGIN:VEVENT
UID:1839@nfrmpo.org
DTSTART:20250412T100000Z
DTEND:20250412T140000Z
DTSTAMP:20250409T215708Z
URL:https://nfrmpo.org/calendar/fort-collins-winter-farmers-market/
SUMMARY:Fort Collins Winter Farmer's Market
DESCRIPTION:
CATEGORIES:Mobility Outreach Events
LOCATION:Foothills Mall\,  215 E Foothills Pkwy\, Fort Collins\, CO\, 80525
 \, United States
GEO:40.542921;-105.074164
X-APPLE-STRUCTURED-LOCATION;VALUE=URI;X-ADDRESS= 215 E Foothills Pkwy\, For
 t Collins\, CO\, 80525\, United States;X-APPLE-RADIUS=100;X-TITLE=Foothill
 s Mall:geo:40.542921,-105.074164
END:VEVENT
END:VCALENDAR