BEGIN:VCALENDAR
VERSION:2.0
PRODID:-//wp-events-plugin.com//7.2.3.1//EN
TZID:America/Denver
X-WR-TIMEZONE:America/Denver
BEGIN:VEVENT
UID:2387@nfrmpo.org
DTSTART;TZID=America/Denver:20260728T133000
DTEND;TZID=America/Denver:20260728T150000
DTSTAMP:20260305T200106Z
URL:https://nfrmpo.org/calendar/larimer-county-mobility-committee-37/
SUMMARY:Larimer County Mobility Committee
DESCRIPTION:Meeting materials are generally posted a week prior to the meet
 ing on the Meeting Materials page. The meeting will be held virtually\, an
 d information is provided in the meeting packet. For more information\, pl
 ease contact Tanya Trujillo-Martinez at ttrujillo-martinez@nfrmpo.org.
CATEGORIES:Larimer County Mobility Committee (LCMC)
LOCATION:Loveland Youth Campus\, 2366 E 1st Street\, Loveland\, CO\, 80537\
 , United States
GEO:40.392448;-105.042271
X-APPLE-STRUCTURED-LOCATION;VALUE=URI;X-ADDRESS=2366 E 1st Street\, Lovelan
 d\, CO\, 80537\, United States;X-APPLE-RADIUS=100;X-TITLE=Loveland Youth C
 ampus:geo:40.392448,-105.042271
END:VEVENT
BEGIN:VTIMEZONE
TZID:America/Denver
X-LIC-LOCATION:America/Denver
BEGIN:DAYLIGHT
DTSTART:20260308T030000
TZOFFSETFROM:-0700
TZOFFSETTO:-0600
TZNAME:MDT
END:DAYLIGHT
END:VTIMEZONE
END:VCALENDAR