BEGIN:VCALENDAR
VERSION:2.0
PRODID:-//wp-events-plugin.com//7.2.3.1//EN
TZID:America/Denver
X-WR-TIMEZONE:America/Denver
BEGIN:VEVENT
UID:1425@nfrmpo.org
DTSTART:20220810T100000Z
DTEND:20220810T120000Z
DTSTAMP:20220721T171953Z
URL:https://nfrmpo.org/calendar/noco-bike-ped-collaborative-2022-08-10/
SUMMARY:NoCo Bike & Ped Collaborative - Severance Walk Audit
DESCRIPTION:Meetings are being held virtually until further notice. Agendas
  are generally posted one week prior to the meeting and minutes are posted
  within a month. These materials\, including login information\, can be fo
 und on the meeting materials page.
CATEGORIES:NoCo Bike &amp; Ped
END:VEVENT
END:VCALENDAR