BEGIN:VCALENDAR
VERSION:2.0
PRODID:-//wp-events-plugin.com//7.2.3.1//EN
TZID:America/Denver
X-WR-TIMEZONE:America/Denver
BEGIN:VEVENT
UID:305@nfrmpo.org
DTSTART:20170323T113000Z
DTEND:20170323T163000Z
DTSTAMP:20170225T011327Z
URL:https://nfrmpo.org/calendar/pathways-health-connecting-neighborhoods-s
 treets/
SUMMARY:Pathways to Health: Connecting Neighborhoods and Streets for All
DESCRIPTION:Registration required. Bike Fort Collins and Larimer County Dep
 artment of Health and Environment are hosting Pathways to Health: Connecti
 ng Neighborhoods and Streets For All on Thursday\, March 23\, 2017. The su
 mmit will focus on the connections between health\, the built environment\
 , and active transportation. Registration for the event is free and AICP C
 ertification Maintenance (CM) Credits will be available. Lunch is included
  in registration.
CATEGORIES:NoCo Bike &amp; Ped
LOCATION:The Ranch Events Complex - McKee 4H Building\, 5280 Arena Circle\,
  Loveland\, CO\, 80538\, United States
GEO:40.4425676;-104.9881699
X-APPLE-STRUCTURED-LOCATION;VALUE=URI;X-ADDRESS=5280 Arena Circle\, Lovelan
 d\, CO\, 80538\, United States;X-APPLE-RADIUS=100;X-TITLE=The Ranch Events
  Complex - McKee 4H Building:geo:40.4425676,-104.9881699
END:VEVENT
END:VCALENDAR