BEGIN:VCALENDAR
VERSION:2.0
PRODID:-//wp-events-plugin.com//7.2.3.1//EN
TZID:America/Denver
X-WR-TIMEZONE:America/Denver
BEGIN:VEVENT
UID:1453@nfrmpo.org
DTSTART:20220816T090000Z
DTEND:20220816T103000Z
DTSTAMP:20220721T172027Z
URL:https://nfrmpo.org/calendar/tdm-action-plan/
SUMMARY:TDM Action Plan Morning Webinar
DESCRIPTION:Register for the webinar on GoToWebinar
CATEGORIES:Outreach Events
END:VEVENT
END:VCALENDAR