BEGIN:VCALENDAR
VERSION:2.0
PRODID:-//wp-events-plugin.com//7.2.3.1//EN
TZID:America/Denver
X-WR-TIMEZONE:America/Denver
BEGIN:VEVENT
UID:1604@nfrmpo.org
DTSTART:20230624T080000Z
DTEND:20230624T120000Z
DTSTAMP:20230601T172324Z
URL:https://nfrmpo.org/calendar/weld-county-gravel-grinder/
SUMMARY:Weld County Gravel Grinder
DESCRIPTION:More information
CATEGORIES:Shift Your Ride
LOCATION:Nunn Skatepark\, 775 3rd St\, Nunn\, CO\, United States
GEO:40.705012;-104.782486
X-APPLE-STRUCTURED-LOCATION;VALUE=URI;X-ADDRESS=775 3rd St\, Nunn\, CO\, Un
 ited States;X-APPLE-RADIUS=100;X-TITLE=Nunn Skatepark:geo:40.705012,-104.7
 82486
END:VEVENT
END:VCALENDAR